BEGIN:VCALENDAR
VERSION:2.0
PRODID:-//Virgin Islands Department of Labor - ECPv5.5.0.1//NONSGML v1.0//EN
CALSCALE:GREGORIAN
METHOD:PUBLISH
X-WR-CALNAME:Virgin Islands Department of Labor
X-ORIGINAL-URL:https://www.vidol.gov
X-WR-CALDESC:Events for Virgin Islands Department of Labor
BEGIN:VTIMEZONE
TZID:America/Halifax
BEGIN:DAYLIGHT
TZOFFSETFROM:-0400
TZOFFSETTO:-0300
TZNAME:ADT
DTSTART:20210314T060000
END:DAYLIGHT
BEGIN:STANDARD
TZOFFSETFROM:-0300
TZOFFSETTO:-0400
TZNAME:AST
DTSTART:20211107T050000
END:STANDARD
END:VTIMEZONE
BEGIN:VEVENT
DTSTART;TZID=America/Halifax:20210326T110000
DTEND;TZID=America/Halifax:20210326T120000
DTSTAMP:20210428T124116
CREATED:20210324T195901Z
LAST-MODIFIED:20210324T195901Z
UID:10976-1616756400-1616760000@www.vidol.gov
SUMMARY:FREE EMPLOYER WEBINAR
DESCRIPTION:FREE EMPLOYER WEBINAR  \n\n\n\nJoin us and learn about the many employer benefits of participating in the 2021 Summer Youth Program\n\n\n\n100% of wages paid by the VI Department of Labor \n\n\n\n\n\n\n\n\n\nLearn More: Friday March 26 @ 11:00 AM \n\n\n\n\n  \n \n  \n  \n  \n  \n  \n  \n  \n  \n  \n  \n  \n  \n  \n\n\n\nREGISTER FREE HERE\n\n\n\n\n\n\nUnlimited Q&A \nNo Webcam Required\n\n\n\n  \n\n\n\nHosted by
URL:https://www.vidol.gov/event/free-employer-webinar/
END:VEVENT
END:VCALENDAR