BEGIN:VCALENDAR
VERSION:2.0
PRODID:-//Virgin Islands Department of Labor - ECPv5.7.0//NONSGML v1.0//EN
CALSCALE:GREGORIAN
METHOD:PUBLISH
X-WR-CALNAME:Virgin Islands Department of Labor
X-ORIGINAL-URL:https://www.vidol.gov
X-WR-CALDESC:Events for Virgin Islands Department of Labor
BEGIN:VTIMEZONE
TZID:America/Halifax
BEGIN:DAYLIGHT
TZOFFSETFROM:-0400
TZOFFSETTO:-0300
TZNAME:ADT
DTSTART:20190310T060000
END:DAYLIGHT
BEGIN:STANDARD
TZOFFSETFROM:-0300
TZOFFSETTO:-0400
TZNAME:AST
DTSTART:20191103T050000
END:STANDARD
END:VTIMEZONE
BEGIN:VEVENT
DTSTART;TZID=America/Halifax:20190905T100000
DTEND;TZID=America/Halifax:20190905T130000
DTSTAMP:20210613T022714
CREATED:20190904T162733Z
LAST-MODIFIED:20190904T162733Z
UID:3726-1567677600-1567688400@www.vidol.gov
SUMMARY:VIDOL's Customer Appreciation
DESCRIPTION:
URL:https://www.vidol.gov/event/vidols-customer-appreciation/
LOCATION:Virgin Islands Department of Labor STT & STX
END:VEVENT
END:VCALENDAR