BEGIN:VCALENDAR
VERSION:2.0
PRODID:-//Virgin Islands Department of Labor - ECPv5.7.0//NONSGML v1.0//EN
CALSCALE:GREGORIAN
METHOD:PUBLISH
X-WR-CALNAME:Virgin Islands Department of Labor
X-ORIGINAL-URL:https://www.vidol.gov
X-WR-CALDESC:Events for Virgin Islands Department of Labor
BEGIN:VTIMEZONE
TZID:America/Halifax
BEGIN:DAYLIGHT
TZOFFSETFROM:-0400
TZOFFSETTO:-0300
TZNAME:ADT
DTSTART:20210314T060000
END:DAYLIGHT
BEGIN:STANDARD
TZOFFSETFROM:-0300
TZOFFSETTO:-0400
TZNAME:AST
DTSTART:20211107T050000
END:STANDARD
END:VTIMEZONE
BEGIN:VEVENT
DTSTART;TZID=America/Halifax:20210226T140000
DTEND;TZID=America/Halifax:20210226T150000
DTSTAMP:20210605T122850
CREATED:20210217T193418Z
LAST-MODIFIED:20210217T194532Z
UID:10481-1614348000-1614351600@www.vidol.gov
SUMMARY:Employer Webinar
DESCRIPTION:FREE EMPLOYER WEBINAR\n\n\nLEARN MORE ABOUT THESE TWO EMPLOYER PROGRAMS \n\n\n\nAVAILABLE FOR YOUR NEXT NEW HIRES \n\n\n\n\n\n\n\n \nApprenticeship \n\n \nWork-Based Learning \n\n\n\n\n\n\n\nJoin us for a free webinar as we share information about two amazing opportunities designed to offset costs\, as well as\, custom-train new hires with skills they need to be proficient on the job.\n\n\n\nRegister for our free event to learn more. \nFriday February 26 @ 2:00 AST \n\n\n\n  Register Free Here    \n\n\n\n  \n 
URL:https://www.vidol.gov/event/employer-webinar/
LOCATION:Virgin Islands Department of Labor STT & STX
END:VEVENT
BEGIN:VEVENT
DTSTART;TZID=America/Halifax:20210326T110000
DTEND;TZID=America/Halifax:20210326T120000
DTSTAMP:20210605T122850
CREATED:20210324T195901Z
LAST-MODIFIED:20210324T195901Z
UID:10976-1616756400-1616760000@www.vidol.gov
SUMMARY:FREE EMPLOYER WEBINAR
DESCRIPTION:FREE EMPLOYER WEBINAR  \n\n\n\nJoin us and learn about the many employer benefits of participating in the 2021 Summer Youth Program\n\n\n\n100% of wages paid by the VI Department of Labor \n\n\n\n\n\n\n\n\n\nLearn More: Friday March 26 @ 11:00 AM \n\n\n\n\n  \n \n  \n  \n  \n  \n  \n  \n  \n  \n  \n  \n  \n  \n  \n\n\n\nREGISTER FREE HERE\n\n\n\n\n\n\nUnlimited Q&A \nNo Webcam Required\n\n\n\n  \n\n\n\nHosted by
URL:https://www.vidol.gov/event/free-employer-webinar/
END:VEVENT
BEGIN:VEVENT
DTSTART;TZID=America/Halifax:20210407T180000
DTEND;TZID=America/Halifax:20210407T180000
DTSTAMP:20210605T122850
CREATED:20210406T111718Z
LAST-MODIFIED:20210406T111718Z
UID:11209-1617818400-1617818400@www.vidol.gov
SUMMARY:Virtual Youth Town Hall
DESCRIPTION:
URL:https://www.vidol.gov/event/virtual-youth-town-hall/
END:VEVENT
BEGIN:VEVENT
DTSTART;TZID=America/Halifax:20210414T100000
DTEND;TZID=America/Halifax:20210414T120000
DTSTAMP:20210605T122850
CREATED:20210412T171319Z
LAST-MODIFIED:20210412T171319Z
UID:11304-1618394400-1618401600@www.vidol.gov
SUMMARY:Employer Forum
DESCRIPTION:
URL:https://www.vidol.gov/event/employer-forum/
END:VEVENT
BEGIN:VEVENT
DTSTART;TZID=America/Halifax:20210503T083000
DTEND;TZID=America/Halifax:20210503T100000
DTSTAMP:20210605T122850
CREATED:20210503T134133Z
LAST-MODIFIED:20210503T134133Z
UID:11727-1620030600-1620036000@www.vidol.gov
SUMMARY:VIDOSH Safety Webinar
DESCRIPTION:More Ways to Join: \nJoin by meeting number \nMeeting number (access code): 199 700 6415 \nMeeting password: ruJ9rdNNU82 \n  \nTap to join from a mobile device (attendees only) \n1-877-465-7975\,\,1997006415## US Toll Free \n+1-210-795-0506\,\,1997006415## US Toll \n  \nJoin by phone \n1-877-465-7975 US Toll Free \n1-210-795-0506 US Toll \nGlobal call-in numbers  |  Toll-free calling restrictions \n  \nDial 1997006415@usdol.webex.com \nYou can also dial 207.182.190.20 and enter your meeting number. \n  \nJoin using Microsoft Lync or Microsoft Skype for Business \nDial 1997006415.usdol@lync.webex.com \n  \nFor more information please contact VIDOSH Consultant Oonijah Thomas on the St. Thomas District at (340)776-3700 ext) 2404.
URL:https://www.vidol.gov/event/vidosh-safety-webinar/
LOCATION:https://usdol.webex.com/usdol/j.php?MTID=m47be03b5812324ba84b22449714d39d2
END:VEVENT
BEGIN:VEVENT
DTSTART;TZID=America/Halifax:20210610T113000
DTEND;TZID=America/Halifax:20210610T120000
DTSTAMP:20210605T122850
CREATED:20210527T171639Z
LAST-MODIFIED:20210527T171639Z
UID:12227-1623324600-1623326400@www.vidol.gov
SUMMARY:Work Opportunity Tax Credit (WOTC)
DESCRIPTION:
URL:https://www.vidol.gov/event/work-opportunity-tax-credit-wotc/
END:VEVENT
END:VCALENDAR