BEGIN:VCALENDAR
VERSION:2.0
PRODID:-//Virgin Islands Department of Labor - ECPv5.7.1//NONSGML v1.0//EN
CALSCALE:GREGORIAN
METHOD:PUBLISH
X-WR-CALNAME:Virgin Islands Department of Labor
X-ORIGINAL-URL:https://www.vidol.gov
X-WR-CALDESC:Events for Virgin Islands Department of Labor
BEGIN:VTIMEZONE
TZID:America/Halifax
BEGIN:DAYLIGHT
TZOFFSETFROM:-0400
TZOFFSETTO:-0300
TZNAME:ADT
DTSTART:20190310T060000
END:DAYLIGHT
BEGIN:STANDARD
TZOFFSETFROM:-0300
TZOFFSETTO:-0400
TZNAME:AST
DTSTART:20191103T050000
END:STANDARD
END:VTIMEZONE
BEGIN:VEVENT
DTSTART;TZID=America/Halifax:20191205T100000
DTEND;TZID=America/Halifax:20191205T100000
DTSTAMP:20210702T080753
CREATED:20191119T152109Z
LAST-MODIFIED:20191119T152109Z
UID:4673-1575540000-1575540000@www.vidol.gov
SUMMARY:Orientation to OneStop Services
DESCRIPTION:Supplemental Nutrition Assistance Program (SNAP)
URL:https://www.vidol.gov/event/orientation-to-onestop-services-27/
LOCATION:Virgin Islands Department of Labor – St. Thomas\, 2353 Kronprindsens Gade\, St. Thomas\, 00802\, Virgin Islands (U.S.)
END:VEVENT
BEGIN:VEVENT
DTSTART;TZID=America/Halifax:20191126T113000
DTEND;TZID=America/Halifax:20191126T153000
DTSTAMP:20210702T080753
CREATED:20191119T151951Z
LAST-MODIFIED:20191119T151951Z
UID:4671-1574767800-1574782200@www.vidol.gov
SUMMARY:Career Essential Workshops
DESCRIPTION:Module I 11:30 AM: \n\nGoal Setting\nWork Values & Career Interest\nConducting a Job Search\n\nModule 2 12:30 PM: \n\nResume Writing\nInterviewing\nLetter Writing\n\nModule 3 2:30 PM \n\nBusiness Etiquette\nAppropriate Behavior in the Workplace\nPositive Attitude and Motivation\nCommunication Skills\nProblem Solving\n Anger Management\n\nTo register for workshops please contact us at :\ncmhodge@vidol.gov\nor\n(340) 776-3700 ext. 2044
URL:https://www.vidol.gov/event/career-essential-workshops-20/
LOCATION:Virgin Islands Department of Labor – St. Thomas\, 2353\, Kronprindsens Gade\, Charlotte Amalie\, St. Thomas\, 00802\, Virgin Islands (U.S.)
END:VEVENT
BEGIN:VEVENT
DTSTART;TZID=America/Halifax:20191114T080000
DTEND;TZID=America/Halifax:20191114T080000
DTSTAMP:20210702T080753
CREATED:20191119T151811Z
LAST-MODIFIED:20191119T151811Z
UID:4669-1573718400-1573718400@www.vidol.gov
SUMMARY:Orientation to OneStop Services
DESCRIPTION:Supplemental Nutrition Assistance Program (SNAP)
URL:https://www.vidol.gov/event/orientation-to-onestop-services-26/
LOCATION:Virgin Islands Department of Labor – St. Thomas\, 2353 Kronprindsens Gade\, St. Thomas\, 00802\, Virgin Islands (U.S.)
END:VEVENT
BEGIN:VEVENT
DTSTART;TZID=America/Halifax:20191107T100000
DTEND;TZID=America/Halifax:20191107T100000
DTSTAMP:20210702T080753
CREATED:20191119T151716Z
LAST-MODIFIED:20191119T151716Z
UID:4667-1573120800-1573120800@www.vidol.gov
SUMMARY:Orientation to OneStop Services
DESCRIPTION:Supplemental Nutrition Assistance Program (SNAP)
URL:https://www.vidol.gov/event/orientation-to-onestop-services-25/
LOCATION:Virgin Islands Department of Labor – St. Thomas\, 2353 Kronprindsens Gade\, St. Thomas\, 00802\, Virgin Islands (U.S.)
END:VEVENT
BEGIN:VEVENT
DTSTART;TZID=America/Halifax:20191031T100000
DTEND;TZID=America/Halifax:20191031T170000
DTSTAMP:20210702T080753
CREATED:20191007T175024Z
LAST-MODIFIED:20191007T175024Z
UID:4183-1572516000-1572541200@www.vidol.gov
SUMMARY:Orientation to OneStop Services
DESCRIPTION:Supplemental Nutrition Assistance Program (SNAP)
URL:https://www.vidol.gov/event/orientation-to-onestop-services-24/
LOCATION:Virgin Islands Department of Labor – St. Thomas\, 2353\, Kronprindsens Gade\, Charlotte Amalie\, St. Thomas\, 00802\, Virgin Islands (U.S.)
END:VEVENT
BEGIN:VEVENT
DTSTART;TZID=America/Halifax:20191024T100000
DTEND;TZID=America/Halifax:20191024T100000
DTSTAMP:20210702T080753
CREATED:20191007T174938Z
LAST-MODIFIED:20191007T174938Z
UID:4181-1571911200-1571911200@www.vidol.gov
SUMMARY:Orientation to OneStop Services
DESCRIPTION:Supplemental Nutrition Assistance Program (SNAP)
URL:https://www.vidol.gov/event/orientation-to-onestop-services-23/
LOCATION:Virgin Islands Department of Labor – St. Thomas\, 2353\, Kronprindsens Gade\, Charlotte Amalie\, St. Thomas\, 00802\, Virgin Islands (U.S.)
END:VEVENT
BEGIN:VEVENT
DTSTART;TZID=America/Halifax:20191022T113000
DTEND;TZID=America/Halifax:20191022T153000
DTSTAMP:20210702T080753
CREATED:20191007T175241Z
LAST-MODIFIED:20191007T175241Z
UID:4187-1571743800-1571758200@www.vidol.gov
SUMMARY:Career Essential Workshops
DESCRIPTION:Module I 11:30 AM: \n\nGoal Setting\nWork Values & Career Interest\nConducting a Job Search\n\nModule 2 12:30 PM: \n\nResume Writing\nInterviewing\nLetter Writing\n\nModule 3 2:30 PM \n\nBusiness Etiquette\nAppropriate Behavior in the Workplace\nPositive Attitude and Motivation\nCommunication Skills\nProblem Solving\n Anger Management\n\nTo register for workshops please contact us at :\ncmhodge@vidol.gov\nor\n(340) 776-3700 ext. 204
URL:https://www.vidol.gov/event/career-essential-workshops-19/
LOCATION:Virgin Islands Department of Labor – St. Thomas\, 2353\, Kronprindsens Gade\, Charlotte Amalie\, St. Thomas\, 00802\, Virgin Islands (U.S.)
END:VEVENT
BEGIN:VEVENT
DTSTART;TZID=America/Halifax:20191011T100000
DTEND;TZID=America/Halifax:20191011T120000
DTSTAMP:20210702T080753
CREATED:20190904T170714Z
LAST-MODIFIED:20191004T191636Z
UID:3753-1570788000-1570795200@www.vidol.gov
SUMMARY:Employer Appreciation Day
DESCRIPTION:
URL:https://www.vidol.gov/event/employer-appreciation-day-2/
LOCATION:Virgin Islands Department of Labor – St. Thomas\, 2353\, Kronprindsens Gade\, Charlotte Amalie\, St. Thomas\, 00802\, Virgin Islands (U.S.)
END:VEVENT
BEGIN:VEVENT
DTSTART;TZID=America/Halifax:20191010T100000
DTEND;TZID=America/Halifax:20191010T140000
DTSTAMP:20210702T080753
CREATED:20191002T175849Z
LAST-MODIFIED:20191007T174402Z
UID:4119-1570701600-1570716000@www.vidol.gov
SUMMARY:Job Fair
DESCRIPTION:
URL:https://www.vidol.gov/event/job-fair-3/
LOCATION:Tutu Park Mall\, 4605 Tutu Park Mall\, St. Thomas\, 00802\, Virgin Islands (U.S.)
END:VEVENT
BEGIN:VEVENT
DTSTART;TZID=America/Halifax:20191010T100000
DTEND;TZID=America/Halifax:20191010T100000
DTSTAMP:20210702T080753
CREATED:20191007T174856Z
LAST-MODIFIED:20191007T174856Z
UID:4179-1570701600-1570701600@www.vidol.gov
SUMMARY:Orientation to OneStop Services
DESCRIPTION:Supplemental Nutrition Assistance Program (SNAP)
URL:https://www.vidol.gov/event/orientation-to-onestop-services-22/
LOCATION:Virgin Islands Department of Labor – St. Thomas\, 2353\, Kronprindsens Gade\, Charlotte Amalie\, St. Thomas\, 00802\, Virgin Islands (U.S.)
END:VEVENT
BEGIN:VEVENT
DTSTART;TZID=America/Halifax:20191008T080000
DTEND;TZID=America/Halifax:20191008T153000
DTSTAMP:20210702T080753
CREATED:20191007T175141Z
LAST-MODIFIED:20191007T175141Z
UID:4185-1570521600-1570548600@www.vidol.gov
SUMMARY:Career Essential Workshops
DESCRIPTION:Module I 11:30 AM: \n\nGoal Setting\nWork Values & Career Interest\nConducting a Job Search\n\nModule 2 12:30 PM: \n\nResume Writing\nInterviewing\nLetter Writing\n\nModule 3 2:30 PM \n\nBusiness Etiquette\nAppropriate Behavior in the Workplace\nPositive Attitude and Motivation\nCommunication Skills\nProblem Solving\n Anger Management\n\nTo register for workshops please contact us at :\ncmhodge@vidol.gov\nor\n(340) 776-3700 ext. 204
URL:https://www.vidol.gov/event/career-essential-workshops-18/
LOCATION:Virgin Islands Department of Labor – St. Thomas\, 2353\, Kronprindsens Gade\, Charlotte Amalie\, St. Thomas\, 00802\, Virgin Islands (U.S.)
END:VEVENT
BEGIN:VEVENT
DTSTART;TZID=America/Halifax:20191003T100000
DTEND;TZID=America/Halifax:20191003T100000
DTSTAMP:20210702T080753
CREATED:20191007T174809Z
LAST-MODIFIED:20191007T174809Z
UID:4177-1570096800-1570096800@www.vidol.gov
SUMMARY:Orientation to OneStop Services
DESCRIPTION:Supplemental Nutrition Assistance Program (SNAP)
URL:https://www.vidol.gov/event/orientation-to-onestop-services-21/
LOCATION:Virgin Islands Department of Labor – St. Thomas\, 2353\, Kronprindsens Gade\, Charlotte Amalie\, St. Thomas\, 00802\, Virgin Islands (U.S.)
END:VEVENT
BEGIN:VEVENT
DTSTART;TZID=America/Halifax:20190927T100000
DTEND;TZID=America/Halifax:20190927T143000
DTSTAMP:20210702T080753
CREATED:20190904T164947Z
LAST-MODIFIED:20190930T171642Z
UID:3739-1569578400-1569594600@www.vidol.gov
SUMMARY:Job Fair
DESCRIPTION:
URL:https://www.vidol.gov/event/job-fair/
LOCATION:Albert A Sheen – UVI Great Hall\, RR1 Box 10000\, St. Croix\, 00850-9781\, Virgin Islands (U.S.)
END:VEVENT
BEGIN:VEVENT
DTSTART;TZID=America/Halifax:20190920T100000
DTEND;TZID=America/Halifax:20190920T120000
DTSTAMP:20210702T080753
CREATED:20190904T164705Z
LAST-MODIFIED:20190911T142806Z
UID:3737-1568973600-1568980800@www.vidol.gov
SUMMARY:Employer Appreciation Day
DESCRIPTION:
URL:https://www.vidol.gov/event/employer-appreciation-day/
LOCATION:Virgin Islands Department of Labor – Stx\, P7J6+8R Sion Farm\, St Croix\, 00820\, Virgin Islands (U.S.)
END:VEVENT
BEGIN:VEVENT
DTSTART;TZID=America/Halifax:20190919T173000
DTEND;TZID=America/Halifax:20190919T193000
DTSTAMP:20210702T080753
CREATED:20190904T170041Z
LAST-MODIFIED:20190904T170041Z
UID:3747-1568914200-1568921400@www.vidol.gov
SUMMARY:VIDOL's Employer Services Spotlight
DESCRIPTION:STT Chamber of Commerce Business After Hours
URL:https://www.vidol.gov/event/vidols-employer-services-spotlight/
LOCATION:Paraside Point\, 9617 Estate Thomas\, St. Thomas\, 00802\, Virgin Islands (U.S.)
END:VEVENT
BEGIN:VEVENT
DTSTART;TZID=America/Halifax:20190917T090000
DTEND;TZID=America/Halifax:20190917T170000
DTSTAMP:20210702T080753
CREATED:20190904T163928Z
LAST-MODIFIED:20190909T163636Z
UID:3735-1568710800-1568739600@www.vidol.gov
SUMMARY:Senate Hearing: Payroll Variation Bill
DESCRIPTION:VI Legislature Committee on Finance
URL:https://www.vidol.gov/event/senate-hearing-payroll-variation-bill/
LOCATION:Earle B Legislative Hall\, Legislature of the Virgin Islands Capitol Building\, St. Thomas\, 00804\, Virgin Islands (U.S.)
END:VEVENT
BEGIN:VEVENT
DTSTART;TZID=America/Halifax:20190916T080000
DTEND;TZID=America/Halifax:20190916T170000
DTSTAMP:20210702T080753
CREATED:20190904T163430Z
LAST-MODIFIED:20190916T185910Z
UID:3733-1568620800-1568653200@www.vidol.gov
SUMMARY:Customer Satisfaction Survey Launched STT & STX
DESCRIPTION:We would like to know what you think about our programs and services. Please complete this short survey to provide us with feedback so we can better assist you. The survey will take approximately 5 minutes to complete. Your participation is voluntary; any information you provide will be kept confidential. This information will help us determine service areas that need improvement. \nThe survey can be found by clicking Here! \n 
URL:https://www.vidol.gov/event/customer-satisfaction-survey-launched-stt-stx/
END:VEVENT
BEGIN:VEVENT
DTSTART;TZID=America/Halifax:20190912T093000
DTEND;TZID=America/Halifax:20190912T200000
DTSTAMP:20210702T080753
CREATED:20190904T163304Z
LAST-MODIFIED:20190904T163320Z
UID:3729-1568280600-1568318400@www.vidol.gov
SUMMARY:Labor Affairs Summit - STX
DESCRIPTION:Worker’s Rights & Advocacy from 9:00 AM – 12:00 PM \nHow to Report & Prevent Sexual Harassment & Discrimination in the Workplace 6:00 PM – 8:00 PM
URL:https://www.vidol.gov/event/labor-affairs-summit-stx/
LOCATION:VI Cardiac Center\, 4007 Estate Diamond Ruby\, St. Croix\, 00820\, Virgin Islands (U.S.)
END:VEVENT
BEGIN:VEVENT
DTSTART;TZID=America/Halifax:20190911T180000
DTEND;TZID=America/Halifax:20190911T200000
DTSTAMP:20210702T080753
CREATED:20190904T165658Z
LAST-MODIFIED:20190904T165658Z
UID:3745-1568224800-1568232000@www.vidol.gov
SUMMARY:Labor Affairs Summit
DESCRIPTION:How to Report & Prevent Sexual Harassment & Distribution in the Workplace
URL:https://www.vidol.gov/event/labor-affairs-summit-2/
LOCATION:Small Business Development Center\, 8000 Nisky Center\, Suite 720\, St. Thomas\, 00802\, Virgin Islands (U.S.)
END:VEVENT
BEGIN:VEVENT
DTSTART;TZID=America/Halifax:20190910T180000
DTEND;TZID=America/Halifax:20190910T200000
DTSTAMP:20210702T080753
CREATED:20190904T165602Z
LAST-MODIFIED:20190904T165602Z
UID:3742-1568138400-1568145600@www.vidol.gov
SUMMARY:Labor Affairs Summit
DESCRIPTION:How to Report & Prevent Sexual Harassment & Distribution in the Workplace
URL:https://www.vidol.gov/event/labor-affairs-summit/
LOCATION:Small Business Development Center\, 8000 Nisky Center\, Suite 720\, St. Thomas\, 00802\, Virgin Islands (U.S.)
END:VEVENT
BEGIN:VEVENT
DTSTART;TZID=America/Halifax:20190905T100000
DTEND;TZID=America/Halifax:20190905T130000
DTSTAMP:20210702T080753
CREATED:20190904T162733Z
LAST-MODIFIED:20190904T162733Z
UID:3726-1567677600-1567688400@www.vidol.gov
SUMMARY:VIDOL's Customer Appreciation
DESCRIPTION:
URL:https://www.vidol.gov/event/vidols-customer-appreciation/
LOCATION:Virgin Islands Department of Labor STT & STX
END:VEVENT
BEGIN:VEVENT
DTSTART;TZID=America/Halifax:20190829T100000
DTEND;TZID=America/Halifax:20190829T100000
DTSTAMP:20210702T080753
CREATED:20190729T160228Z
LAST-MODIFIED:20190729T160228Z
UID:3426-1567072800-1567072800@www.vidol.gov
SUMMARY:Orientation to OneStop Services
DESCRIPTION:Supplemental Nutrition Assistance Program (SNAP)
URL:https://www.vidol.gov/event/orientation-to-onestop-services-20/
LOCATION:Virgin Islands Department of Labor – St. Thomas\, 2353\, Kronprindsens Gade\, Charlotte Amalie\, St. Thomas\, 00802\, Virgin Islands (U.S.)
END:VEVENT
BEGIN:VEVENT
DTSTART;TZID=America/Halifax:20190822T100000
DTEND;TZID=America/Halifax:20190822T100000
DTSTAMP:20210702T080753
CREATED:20190729T160107Z
LAST-MODIFIED:20190729T160107Z
UID:3424-1566468000-1566468000@www.vidol.gov
SUMMARY:Orientation to OneStop Services
DESCRIPTION:Supplemental Nutrition Assistance Program (SNAP)
URL:https://www.vidol.gov/event/orientation-to-onestop-services-19/
LOCATION:Virgin Islands Department of Labor – St. Thomas\, 2353\, Kronprindsens Gade\, Charlotte Amalie\, St. Thomas\, 00802\, Virgin Islands (U.S.)
END:VEVENT
BEGIN:VEVENT
DTSTART;TZID=America/Halifax:20190820T113000
DTEND;TZID=America/Halifax:20190820T153000
DTSTAMP:20210702T080753
CREATED:20190729T204335Z
LAST-MODIFIED:20190729T204645Z
UID:3429-1566300600-1566315000@www.vidol.gov
SUMMARY:Career Essential Workshops
DESCRIPTION:Module I 11:30 AM: \n\nGoal Setting\nWork Values & Career Interest\nConducting a Job Search\n\nModule 2 12:30 PM: \n\nResume Writing\nInterviewing\nLetter Writing\n\nModule 3 2:30 PM \n\nBusiness Etiquette\nAppropriate Behavior in the Workplce\nPositive Attitude and Motivation\nCommunicationn Skills\nProblem Solving\n Anger Management\n\nTo register for workshops please contact us at :\ncmhodge@vidol.gov\nor\n(340) 776-3700 ext. 204
URL:https://www.vidol.gov/event/career-essential-workshops-17/
LOCATION:Virgin Islands Department of Labor – St. Thomas\, 2353\, Kronprindsens Gade\, Charlotte Amalie\, St. Thomas\, 00802\, Virgin Islands (U.S.)
END:VEVENT
BEGIN:VEVENT
DTSTART;TZID=America/Halifax:20190811T190000
DTEND;TZID=America/Halifax:20190811T210000
DTSTAMP:20210702T080753
CREATED:20190808T160625Z
LAST-MODIFIED:20190808T160625Z
UID:3452-1565550000-1565557200@www.vidol.gov
SUMMARY:U.S. Virgin Islands Tourism Ambassadors Event
DESCRIPTION:
URL:https://www.vidol.gov/event/u-s-virgin-islands-tourism-ambassadors-event/
LOCATION:The Gathering Spot\, 384 Northyards Blvd NW Building 100\, Suite 190\, Atlanta\, GA\, 30313\, United States
END:VEVENT
BEGIN:VEVENT
DTSTART;TZID=America/Halifax:20190808T100000
DTEND;TZID=America/Halifax:20190808T170000
DTSTAMP:20210702T080753
CREATED:20190729T160001Z
LAST-MODIFIED:20190729T160001Z
UID:3422-1565258400-1565283600@www.vidol.gov
SUMMARY:Orientation to OneStop Services
DESCRIPTION:Supplemental Nutrition Assistance Program (SNAP)
URL:https://www.vidol.gov/event/orientation-to-onestop-services-18/
LOCATION:Virgin Islands Department of Labor – St. Thomas\, 2353\, Kronprindsens Gade\, Charlotte Amalie\, St. Thomas\, 00802\, Virgin Islands (U.S.)
END:VEVENT
BEGIN:VEVENT
DTSTART;TZID=America/Halifax:20190806T113000
DTEND;TZID=America/Halifax:20190806T153000
DTSTAMP:20210702T080753
CREATED:20190729T204509Z
LAST-MODIFIED:20190729T204608Z
UID:3431-1565091000-1565105400@www.vidol.gov
SUMMARY:Career Essential Worshops
DESCRIPTION:Module I 11:30 AM: \n\nGoal Setting\nWork Values & Career Interest\nConducting a Job Search\n\nModule 2 12:30 PM: \n\nResume Writing\nInterviewing\nLetter Writing\n\nModule 3 2:30 PM \n\nBusiness Etiquette\nAppropriate Behavior in the Workplace\nPositive Attitude and Motivation\nCommunication Skills\nProblem Solving\n Anger Management\n\nTo register for workshops please contact us at :\ncmhodge@vidol.gov\nor\n(340) 776-3700 ext. 204
URL:https://www.vidol.gov/event/career-essential-worshops/
LOCATION:Virgin Islands Department of Labor – St. Thomas\, 2353\, Kronprindsens Gade\, Charlotte Amalie\, St. Thomas\, 00802\, Virgin Islands (U.S.)
END:VEVENT
BEGIN:VEVENT
DTSTART;TZID=America/Halifax:20190801T100000
DTEND;TZID=America/Halifax:20190801T100000
DTSTAMP:20210702T080753
CREATED:20190729T155855Z
LAST-MODIFIED:20190729T155855Z
UID:3420-1564653600-1564653600@www.vidol.gov
SUMMARY:Orientation to OneStop Services
DESCRIPTION:Supplemental Nutrition Assistance Program (SNAP)
URL:https://www.vidol.gov/event/orientation-to-onestop-services-17/
LOCATION:Virgin Islands Department of Labor – St. Thomas\, 2353\, Kronprindsens Gade\, Charlotte Amalie\, St. Thomas\, 00802\, Virgin Islands (U.S.)
END:VEVENT
BEGIN:VEVENT
DTSTART;TZID=America/Halifax:20190725T100000
DTEND;TZID=America/Halifax:20190725T100000
DTSTAMP:20210702T080753
CREATED:20190627T204615Z
LAST-MODIFIED:20190627T204615Z
UID:3341-1564048800-1564048800@www.vidol.gov
SUMMARY:Orientation to OneStop Services
DESCRIPTION:Supplemental Nutrition Assistance Program (SNAP)
URL:https://www.vidol.gov/event/orientation-to-onestop-services-16/
LOCATION:Virgin Islands Department of Labor – St. Thomas\, 2353\, Kronprindsens Gade\, Charlotte Amalie\, St. Thomas\, 00802\, Virgin Islands (U.S.)
END:VEVENT
BEGIN:VEVENT
DTSTART;TZID=America/Halifax:20190723T113000
DTEND;TZID=America/Halifax:20190723T153000
DTSTAMP:20210702T080753
CREATED:20190627T204858Z
LAST-MODIFIED:20190729T204825Z
UID:3345-1563881400-1563895800@www.vidol.gov
SUMMARY:Career Essential Workshops
DESCRIPTION:Module I 11:30 AM: \n\nGoal Setting\nWork Values & Career Interest\nConducting a Job Search\n\nModule 2 12:30 PM: \n\nResume Writing\nInterviewing\nLetter Writing\n\nModule 3 2:30 PM \n\nBusiness Etiquette\nAppropriate Behavior in the Workplace\nPositive Attitude and Motivation\nCommunication Skills\nProblem Solving\n Anger Management\n\nTo register for workshops please contact us at :\ncmhodge@vidol.gov\nor\n(340) 776-3700 ext. 204
URL:https://www.vidol.gov/event/career-essential-workshops-16/
LOCATION:Virgin Islands Department of Labor – St. Thomas\, 2353\, Kronprindsens Gade\, Charlotte Amalie\, St. Thomas\, 00802\, Virgin Islands (U.S.)
END:VEVENT
END:VCALENDAR